BEGIN:VCALENDAR
VERSION:2.0
PRODID:-//Računovodski servis - RS biro - ECPv4.3.4.1//NONSGML v1.0//EN
CALSCALE:GREGORIAN
METHOD:PUBLISH
X-WR-CALNAME:Računovodski servis - RS biro
X-ORIGINAL-URL:http://www.rs-biro.si
X-WR-CALDESC:Events for Računovodski servis - RS biro
BEGIN:VEVENT
DTSTART;TZID=Europe/Ljubljana:20200303T130000
DTEND;TZID=Europe/Ljubljana:20200303T150000
DTSTAMP:20260419T170817
CREATED:20200219T085608Z
LAST-MODIFIED:20200219T090220Z
UID:6024-1583240400-1583247600@www.rs-biro.si
SUMMARY:Projekt raziskave in razvoj za razvojno olajšavo
DESCRIPTION:Vabimo vas na projekt Raziskave in razvoj za 100% razvojno olajšavo. \n\nVsebina:\n\n \tPodatki o raziskovalno-razvojnem programu ali projketu\n \tFrascati-koncepti in definicija za določitev raziskav in eksperimentalnega razvoja\n \tDavčne osnove za uveljavljanje razvojne olajšave\n \tDokazovanje upravičenosti do uveljavljanja olajšav za vlaganje v raziskave in razvoj ter zastaranje\n \tPraktični primer RR\n\nCena projekta: 150\,00€ + DDV \n\nPridružite se nam v torek\, 03. 03. 2020 ob 13.00 uri na naslovu Ulica heroja Staneta 9\, 3310 Žalec.\n\nPrijave na telefonsko številko: 03 713 30 30 ali na info@rs-biro.si\n 
URL:http://www.rs-biro.si/event/projekt-raziskave-in-razvoj-za-razvojno-olajsavo/
LOCATION:Ulica heroja Staneta 9\, Žalec\, 3310\, Slovenija
CATEGORIES:Seminar - plačljiv
ATTACH;FMTTYPE=image/png:http://www.rs-biro.si/wp-content/uploads/2020/02/Zajeta-slika.png
END:VEVENT
END:VCALENDAR